BEGIN:VCALENDAR
VERSION:2.0
PRODID:-//WaterWerks Agency/Eventful//EN
CALSCALE:GREGORIAN
METHOD:REQUEST
BEGIN:VEVENT
UID:20290710-69e73bd0b37c2-placentia.ca
DTSTAMP:20290710T000000
DTSTART:20290710
DTEND:20290710
TZID:America/St_Johns
SUMMARY:Recycling and Commercial Cardboard
DESCRIPTION:
URL:https://placentia.ca/event/recycling-and-commercial-cardboard/e/2029-
 07-10+000000/
RRULE:DTSTART=20250103T000000-0330;FREQ=WEEKLY;INTERVAL=2;BYDAY=0TU
END:VEVENT
END:VCALENDAR