BEGIN:VCALENDAR
VERSION:2.0
PRODID:-//WaterWerks Agency/Eventful//EN
CALSCALE:GREGORIAN
METHOD:REQUEST
BEGIN:VEVENT
UID:20290904-69e7744eb5508-placentia.ca
DTSTAMP:20290904T000000
DTSTART:20290904
DTEND:20290904
TZID:America/St_Johns
SUMMARY:Recycling and Commercial Cardboard
DESCRIPTION:
URL:https://placentia.ca/event/recycling-and-commercial-cardboard/e/2029-
 09-04+000000/
RRULE:DTSTART=20250103T000000-0330;FREQ=WEEKLY;INTERVAL=2;BYDAY=0TU
END:VEVENT
END:VCALENDAR