BEGIN:VCALENDAR
VERSION:2.0
PRODID:-//WaterWerks Agency/Eventful//EN
CALSCALE:GREGORIAN
METHOD:REQUEST
BEGIN:VEVENT
UID:20300625-69e82208de782-placentia.ca
DTSTAMP:20300625T000000
DTSTART:20300625
DTEND:20300625
TZID:America/St_Johns
SUMMARY:Recycling and Commercial Cardboard
DESCRIPTION:
URL:https://placentia.ca/event/recycling-and-commercial-cardboard/e/2030-
 06-25+000000/
RRULE:DTSTART=20250103T000000-0330;FREQ=WEEKLY;INTERVAL=2;BYDAY=0TU
END:VEVENT
END:VCALENDAR