BEGIN:VCALENDAR
VERSION:2.0
PRODID:-//WaterWerks Agency/Eventful//EN
CALSCALE:GREGORIAN
METHOD:REQUEST
BEGIN:VEVENT
UID:20311028-69e9428fc6b29-placentia.ca
DTSTAMP:20311028T000000
DTSTART:20311028
DTEND:20311028
TZID:America/St_Johns
SUMMARY:Recycling and Commercial Cardboard
DESCRIPTION:
URL:https://placentia.ca/event/recycling-and-commercial-cardboard/e/2031-
 10-28+000000/
RRULE:DTSTART=20250103T000000-0330;FREQ=WEEKLY;INTERVAL=2;BYDAY=0TU
END:VEVENT
END:VCALENDAR