BEGIN:VCALENDAR
VERSION:2.0
PRODID:-//WaterWerks Agency/Eventful//EN
CALSCALE:GREGORIAN
METHOD:REQUEST
BEGIN:VEVENT
UID:20320525-69e9ca08050b1-placentia.ca
DTSTAMP:20320525T000000
DTSTART:20320525
DTEND:20320525
TZID:America/St_Johns
SUMMARY:Recycling and Commercial Cardboard
DESCRIPTION:
URL:https://placentia.ca/event/recycling-and-commercial-cardboard/e/2032-
 05-25+000000/
RRULE:DTSTART=20250103T000000-0330;FREQ=WEEKLY;INTERVAL=2;BYDAY=0TU
END:VEVENT
END:VCALENDAR