BEGIN:VCALENDAR
VERSION:2.0
PRODID:-//WaterWerks Agency/Eventful//EN
CALSCALE:GREGORIAN
METHOD:REQUEST
BEGIN:VEVENT
UID:20270331-69e7aaaf04fa6-placentia.ca
DTSTAMP:20270331T000000
DTSTART:20270331
DTEND:20270331
TZID:America/St_Johns
SUMMARY:Regular Waste Collection
DESCRIPTION:
URL:https://placentia.ca/event/regular-waste-collection/e/2027-03-31+0000
 00/
RRULE:DTSTART=20250108T000000-0330;FREQ=WEEKLY;BYDAY=0WE
END:VEVENT
END:VCALENDAR