BEGIN:VCALENDAR
VERSION:2.0
PRODID:-//WaterWerks Agency/Eventful//EN
CALSCALE:GREGORIAN
METHOD:REQUEST
BEGIN:VEVENT
UID:20270707-69e8154b2ec19-placentia.ca
DTSTAMP:20270707T000000
DTSTART:20270707
DTEND:20270707
TZID:America/St_Johns
SUMMARY:Regular Waste Collection
DESCRIPTION:
URL:https://placentia.ca/event/regular-waste-collection/e/2027-07-07+0000
 00/
RRULE:DTSTART=20250108T000000-0330;FREQ=WEEKLY;BYDAY=0WE
END:VEVENT
END:VCALENDAR