BEGIN:VCALENDAR
VERSION:2.0
PRODID:-//WaterWerks Agency/Eventful//EN
CALSCALE:GREGORIAN
METHOD:REQUEST
BEGIN:VEVENT
UID:20280628-69e9eef14c15a-placentia.ca
DTSTAMP:20280628T000000
DTSTART:20280628
DTEND:20280628
TZID:America/St_Johns
SUMMARY:Regular Waste Collection
DESCRIPTION:
URL:https://placentia.ca/event/regular-waste-collection/e/2028-06-28+0000
 00/
RRULE:DTSTART=20250108T000000-0330;FREQ=WEEKLY;BYDAY=0WE
END:VEVENT
END:VCALENDAR