BEGIN:VCALENDAR
VERSION:2.0
PRODID:-//WaterWerks Agency/Eventful//EN
CALSCALE:GREGORIAN
METHOD:REQUEST
BEGIN:VEVENT
UID:20281004-69ea6c2c1858a-placentia.ca
DTSTAMP:20281004T000000
DTSTART:20281004
DTEND:20281004
TZID:America/St_Johns
SUMMARY:Regular Waste Collection
DESCRIPTION:
URL:https://placentia.ca/event/regular-waste-collection/e/2028-10-04+0000
 00/
RRULE:DTSTART=20250108T000000-0330;FREQ=WEEKLY;BYDAY=0WE
END:VEVENT
END:VCALENDAR