BEGIN:VCALENDAR
VERSION:2.0
PRODID:-//WaterWerks Agency/Eventful//EN
CALSCALE:GREGORIAN
METHOD:REQUEST
BEGIN:VEVENT
UID:20281018-69ea83ab28c6f-placentia.ca
DTSTAMP:20281018T000000
DTSTART:20281018
DTEND:20281018
TZID:America/St_Johns
SUMMARY:Regular Waste Collection
DESCRIPTION:
URL:https://placentia.ca/event/regular-waste-collection/e/2028-10-18+0000
 00/
RRULE:DTSTART=20250108T000000-0330;FREQ=WEEKLY;BYDAY=0WE
END:VEVENT
END:VCALENDAR